BEGIN:VCALENDAR
VERSION:2.0
PRODID:-//MediaDesign//MediaDesign.at//DE
CALSCALE:GREGORIAN
BEGIN:VEVENT
DTSTART:20190803T090000
DTEND:20190803T100000
LOCATION:Wienerstraße 3\, 3580 Horn
DTSTAMP:20260422T131222
SUMMARY:Angebot fr Ferienkinder
URL;VALUE=URI:https://horn.gv.at
DESCRIPTION:Weiterverwenden Lernen
UID:20260422T131222-20190803T090000-20190803T100000
END:VEVENT
END:VCALENDAR