BEGIN:VCALENDAR
VERSION:2.0
PRODID:-//MediaDesign//MediaDesign.at//DE
CALSCALE:GREGORIAN
BEGIN:VEVENT
DTSTART:20190802T170000
DTEND:20190802T180000
LOCATION:Doberndorferstraße\, 3580 Horn
DTSTAMP:20260422T082920
SUMMARY:Gartenheurigen des KGV
URL;VALUE=URI:https://horn.gv.at
DESCRIPTION:
UID:20260422T082920-20190802T170000-20190802T180000
END:VEVENT
END:VCALENDAR