BEGIN:VCALENDAR
VERSION:2.0
PRODID:-//MediaDesign//MediaDesign.at//DE
CALSCALE:GREGORIAN
BEGIN:VEVENT
DTSTART:20190913T191000
DTEND:20190913T201000
LOCATION:Zufahrt Kieselbreitengasse\, 3580 Horn
DTSTAMP:20260425T225411
SUMMARY:SV HORN VS KSV 1919
URL;VALUE=URI:https://horn.gv.at
DESCRIPTION:BE PART OF IT
UID:20260425T225411-20190913T191000-20190913T201000
END:VEVENT
END:VCALENDAR