BEGIN:VCALENDAR
VERSION:2.0
PRODID:-//MediaDesign//MediaDesign.at//DE
CALSCALE:GREGORIAN
BEGIN:VEVENT
DTSTART:20190823T191000
DTEND:20190823T201000
LOCATION:Zufahrt Kieselbreitengasse\, 3580 Horn
DTSTAMP:20260424T133309
SUMMARY:SV HORN VS SK VORWRTS STEYR
URL;VALUE=URI:https://horn.gv.at
DESCRIPTION:BE PART OF IT
UID:20260424T133309-20190823T191000-20190823T201000
END:VEVENT
END:VCALENDAR