BEGIN:VCALENDAR
VERSION:2.0
PRODID:-//MediaDesign//MediaDesign.at//DE
CALSCALE:GREGORIAN
BEGIN:VEVENT
DTSTART:20190802T191000
DTEND:20190802T201000
LOCATION:Zufahrt Kieselbreitengasse\, 3580 Horn
DTSTAMP:20260422T100419
SUMMARY:SV HORN VS FAC WIEN
URL;VALUE=URI:https://horn.gv.at
DESCRIPTION:BE PART OF IT
UID:20260422T100419-20190802T191000-20190802T201000
END:VEVENT
END:VCALENDAR