BEGIN:VCALENDAR
VERSION:2.0
PRODID:-//MediaDesign//MediaDesign.at//DE
CALSCALE:GREGORIAN
BEGIN:VEVENT
DTSTART:20190831T180000
DTEND:20190831T190000
LOCATION:Abt-Placius-Much-Str. 1\, 3591 Altenburg
DTSTAMP:20260425T102620
SUMMARY:Allegro Vivo 2 Preistrgerkonzert
URL;VALUE=URI:https://horn.gv.at
DESCRIPTION:
UID:20260425T102620-20190831T180000-20190831T190000
END:VEVENT
END:VCALENDAR