BEGIN:VCALENDAR
VERSION:2.0
PRODID:-//MediaDesign//MediaDesign.at//DE
CALSCALE:GREGORIAN
BEGIN:VEVENT
DTSTART:20190828T103000
DTEND:20190828T113000
LOCATION:Pfarrgasse\, 3580 Horn
DTSTAMP:20260424T231901
SUMMARY:Allegro Vivo Open  Space
URL;VALUE=URI:https://horn.gv.at
DESCRIPTION:
UID:20260424T231901-20190828T103000-20190828T113000
END:VEVENT
END:VCALENDAR