BEGIN:VCALENDAR
VERSION:2.0
PRODID:-//MediaDesign//MediaDesign.at//DE
CALSCALE:GREGORIAN
BEGIN:VEVENT
DTSTART:20190827T190000
DTEND:20190827T200000
LOCATION:Wiener Str. 2\, 3580 Horn
DTSTAMP:20260424T215103
SUMMARY:Allegro Vivo Fantasiestcke
URL;VALUE=URI:https://horn.gv.at
DESCRIPTION:
UID:20260424T215103-20190827T190000-20190827T200000
END:VEVENT
END:VCALENDAR