BEGIN:VCALENDAR
VERSION:2.0
PRODID:-//MediaDesign//MediaDesign.at//DE
CALSCALE:GREGORIAN
BEGIN:VEVENT
DTSTART:20190826T190000
DTEND:20190826T200000
LOCATION:Wiener Str. 4\, 3580 Horn
DTSTAMP:20260424T202751
SUMMARY:Allegro Vivo Vitme Vs
URL;VALUE=URI:https://horn.gv.at
DESCRIPTION:Herzlich Willkommen
UID:20260424T202751-20190826T190000-20190826T200000
END:VEVENT
END:VCALENDAR