BEGIN:VCALENDAR
VERSION:2.0
PRODID:-//MediaDesign//MediaDesign.at//DE
CALSCALE:GREGORIAN
BEGIN:VEVENT
DTSTART:20190824T103000
DTEND:20190824T113000
LOCATION:Canisiusgasse 1\, 3580 Horn
DTSTAMP:20260424T162500
SUMMARY:Allegro Vivo AbschlussMatine
URL;VALUE=URI:https://horn.gv.at
DESCRIPTION:
UID:20260424T162500-20190824T103000-20190824T113000
END:VEVENT
END:VCALENDAR