BEGIN:VCALENDAR
VERSION:2.0
PRODID:-//MediaDesign//MediaDesign.at//DE
CALSCALE:GREGORIAN
BEGIN:VEVENT
DTSTART:20190823T160000
DTEND:20190823T170000
LOCATION:Maria Dreieichen 79\, 3744 Mold
DTSTAMP:20260424T120805
SUMMARY:Allegro Vivo Schlaraffenland
URL;VALUE=URI:https://horn.gv.at
DESCRIPTION:
UID:20260424T120805-20190823T160000-20190823T170000
END:VEVENT
END:VCALENDAR