BEGIN:VCALENDAR
VERSION:2.0
PRODID:-//MediaDesign//MediaDesign.at//DE
CALSCALE:GREGORIAN
BEGIN:VEVENT
DTSTART:20190822T190000
DTEND:20190822T200000
LOCATION:Canisiusgasse 1\, 3580 Horn
DTSTAMP:20260424T062936
SUMMARY:Allegro Vivo Podium der Zukunft
URL;VALUE=URI:https://horn.gv.at
DESCRIPTION:
UID:20260424T062936-20190822T190000-20190822T200000
END:VEVENT
END:VCALENDAR