BEGIN:VCALENDAR
VERSION:2.0
PRODID:-//MediaDesign//MediaDesign.at//DE
CALSCALE:GREGORIAN
BEGIN:VEVENT
DTSTART:20190822T110000
DTEND:20190822T120000
LOCATION:Wiener Str. 2\, 3580 Horn
DTSTAMP:20260424T024645
SUMMARY:Allegro Vivo Matinen
URL;VALUE=URI:https://horn.gv.at
DESCRIPTION:
UID:20260424T024645-20190822T110000-20190822T120000
END:VEVENT
END:VCALENDAR