BEGIN:VCALENDAR
VERSION:2.0
PRODID:-//MediaDesign//MediaDesign.at//DE
CALSCALE:GREGORIAN
BEGIN:VEVENT
DTSTART:20190818T160000
DTEND:20190818T170000
LOCATION:Wiener Str. 2\, 3580 Horn
DTSTAMP:20260423T201300
SUMMARY:Allegro Vivo Fantasiereise
URL;VALUE=URI:https://horn.gv.at
DESCRIPTION:
UID:20260423T201300-20190818T160000-20190818T170000
END:VEVENT
END:VCALENDAR