BEGIN:VCALENDAR
VERSION:2.0
PRODID:-//MediaDesign//MediaDesign.at//DE
CALSCALE:GREGORIAN
BEGIN:VEVENT
DTSTART:20190818T110000
DTEND:20190818T120000
LOCATION:Wiener Str. 2\, 3580 Horn
DTSTAMP:20260423T170843
SUMMARY:Fantomanien
URL;VALUE=URI:https://horn.gv.at
DESCRIPTION:Ausstellungserffnung
UID:20260423T170843-20190818T110000-20190818T120000
END:VEVENT
END:VCALENDAR