BEGIN:VCALENDAR
VERSION:2.0
PRODID:-//MediaDesign//MediaDesign.at//DE
CALSCALE:GREGORIAN
BEGIN:VEVENT
DTSTART:20190817T200000
DTEND:20190817T210000
LOCATION:Wiener Str. 2\, 3580 Horn
DTSTAMP:20260423T153855
SUMMARY:Allegro Vivo Ein Sommernachtstraum
URL;VALUE=URI:https://horn.gv.at
DESCRIPTION:
UID:20260423T153855-20190817T200000-20190817T210000
END:VEVENT
END:VCALENDAR