BEGIN:VCALENDAR
VERSION:2.0
PRODID:-//MediaDesign//MediaDesign.at//DE
CALSCALE:GREGORIAN
BEGIN:VEVENT
DTSTART:20190816T190000
DTEND:20190816T200000
LOCATION:Abt-Placidus-Much-Str. 1\, 3591 Altenburg
DTSTAMP:20260423T141811
SUMMARY:Allegro Vivo 1 Preistrgerkonzert
URL;VALUE=URI:https://horn.gv.at
DESCRIPTION:
UID:20260423T141811-20190816T190000-20190816T200000
END:VEVENT
END:VCALENDAR