BEGIN:VCALENDAR
VERSION:2.0
PRODID:-//MediaDesign//MediaDesign.at//DE
CALSCALE:GREGORIAN
BEGIN:VEVENT
DTSTART:20190816T110000
DTEND:20190816T120000
LOCATION:Wiener Str. 2\, 3580 Horn
DTSTAMP:20260423T124628
SUMMARY:Allegro Vivo Matinen
URL;VALUE=URI:https://horn.gv.at
DESCRIPTION:
UID:20260423T124628-20190816T110000-20190816T120000
END:VEVENT
END:VCALENDAR