BEGIN:VCALENDAR
VERSION:2.0
PRODID:-//MediaDesign//MediaDesign.at//DE
CALSCALE:GREGORIAN
BEGIN:VEVENT
DTSTART:20190815T190000
DTEND:20190815T200000
LOCATION:Greillenstein 1\, 3592 Röhrenbach
DTSTAMP:20260423T113133
SUMMARY:Allegro Vivo AkademieKonzert
URL;VALUE=URI:https://horn.gv.at
DESCRIPTION:Die lange Nacht der jungen Meister
UID:20260423T113133-20190815T190000-20190815T200000
END:VEVENT
END:VCALENDAR