BEGIN:VCALENDAR
VERSION:2.0
PRODID:-//MediaDesign//MediaDesign.at//DE
CALSCALE:GREGORIAN
BEGIN:VEVENT
DTSTART:20190815T110000
DTEND:20190815T120000
LOCATION:Wiener Str. 1\, 3580 Horn
DTSTAMP:20260423T101342
SUMMARY:Allegro Vivo Matinen
URL;VALUE=URI:https://horn.gv.at
DESCRIPTION:
UID:20260423T101342-20190815T110000-20190815T120000
END:VEVENT
END:VCALENDAR