BEGIN:VCALENDAR
VERSION:2.0
PRODID:-//MediaDesign//MediaDesign.at//DE
CALSCALE:GREGORIAN
BEGIN:VEVENT
DTSTART:20190814T190000
DTEND:20190814T200000
LOCATION:Altpölla Nr. 1\, 3593 Altpölla
DTSTAMP:20260423T073302
SUMMARY:Allegro Vivo AkademieKonzert
URL;VALUE=URI:https://horn.gv.at
DESCRIPTION:Konzert bei Kerzenlicht
UID:20260423T073302-20190814T190000-20190814T200000
END:VEVENT
END:VCALENDAR