BEGIN:VCALENDAR
VERSION:2.0
PRODID:-//MediaDesign//MediaDesign.at//DE
CALSCALE:GREGORIAN
BEGIN:VEVENT
DTSTART:20190811T160000
DTEND:20190811T170000
LOCATION:Am Schlossberg\, 3571 Gars/Thunau
DTSTAMP:20260422T232411
SUMMARY:Allegro Vivo Mit Myrten und Rosen
URL;VALUE=URI:https://horn.gv.at
DESCRIPTION:
UID:20260422T232411-20190811T160000-20190811T170000
END:VEVENT
END:VCALENDAR