BEGIN:VCALENDAR
VERSION:2.0
PRODID:-//MediaDesign//MediaDesign.at//DE
CALSCALE:GREGORIAN
BEGIN:VEVENT
DTSTART:20190810T200000
DTEND:20190810T210000
LOCATION:Wiener Str. 2\, 3580 Horn
DTSTAMP:20260422T201151
SUMMARY:Allegro Vivo Funtastic
URL;VALUE=URI:https://horn.gv.at
DESCRIPTION:
UID:20260422T201151-20190810T200000-20190810T210000
END:VEVENT
END:VCALENDAR