BEGIN:VCALENDAR
VERSION:2.0
PRODID:-//MediaDesign//MediaDesign.at//DE
CALSCALE:GREGORIAN
BEGIN:VEVENT
DTSTART:20190818T140000
DTEND:20190818T150000
LOCATION:Horn – Taffatal 
DTSTAMP:20260423T183606
SUMMARY:Schnupperklettern im Taffatal
URL;VALUE=URI:https://horn.gv.at
DESCRIPTION:
UID:20260423T183606-20190818T140000-20190818T150000
END:VEVENT
END:VCALENDAR