BEGIN:VCALENDAR
VERSION:2.0
PRODID:-//MediaDesign//MediaDesign.at//DE
CALSCALE:GREGORIAN
BEGIN:VEVENT
DTSTART:20190907T070000
DTEND:20190907T080000
LOCATION:Festgelände Horn
DTSTAMP:20260425T142453
SUMMARY:AV Alpinkletter
URL;VALUE=URI:https://horn.gv.at
DESCRIPTION:Wnsch dir was
UID:20260425T142453-20190907T070000-20190907T080000
END:VEVENT
END:VCALENDAR