BEGIN:VCALENDAR
VERSION:2.0
PRODID:-//MediaDesign//MediaDesign.at//DE
CALSCALE:GREGORIAN
BEGIN:VEVENT
DTSTART:20190914T080000
DTEND:20190914T090000
LOCATION:Festgelände Horn
DTSTAMP:20260426T001025
SUMMARY:AV Wanderung
URL;VALUE=URI:https://horn.gv.at
DESCRIPTION:Schauenstein  Steinegg  Altenburg
UID:20260426T001025-20190914T080000-20190914T090000
END:VEVENT
END:VCALENDAR