BEGIN:VCALENDAR
VERSION:2.0
PRODID:-//MediaDesign//MediaDesign.at//DE
CALSCALE:GREGORIAN
BEGIN:VEVENT
DTSTART:20190908T060000
DTEND:20190908T070000
LOCATION:Spitalgasse 49\, 3580 Horn
DTSTAMP:20260425T181410
SUMMARY:AV Wanderung
URL;VALUE=URI:https://horn.gv.at
DESCRIPTION:Hohe Veitsch
UID:20260425T181410-20190908T060000-20190908T070000
END:VEVENT
END:VCALENDAR