BEGIN:VCALENDAR
VERSION:2.0
PRODID:-//MediaDesign//MediaDesign.at//DE
CALSCALE:GREGORIAN
BEGIN:VEVENT
DTSTART:20190903T073000
DTEND:20190903T083000
LOCATION:Spitalgasse 49\, 3580 Horn
DTSTAMP:20260425T131024
SUMMARY:Radtour Donauradweg
URL;VALUE=URI:https://horn.gv.at
DESCRIPTION:
UID:20260425T131024-20190903T073000-20190903T083000
END:VEVENT
END:VCALENDAR