BEGIN:VCALENDAR
VERSION:2.0
PRODID:-//MediaDesign//MediaDesign.at//DE
CALSCALE:GREGORIAN
BEGIN:VEVENT
DTSTART:20190901T070000
DTEND:20190901T080000
LOCATION:Spitalgasse 49\, 3580 Horn
DTSTAMP:20260425T114634
SUMMARY:AV Wanderung
URL;VALUE=URI:https://horn.gv.at
DESCRIPTION:ThayaKampWeg Nr 631
UID:20260425T114634-20190901T070000-20190901T080000
END:VEVENT
END:VCALENDAR