BEGIN:VCALENDAR
VERSION:2.0
PRODID:-//MediaDesign//MediaDesign.at//DE
CALSCALE:GREGORIAN
BEGIN:VEVENT
DTSTART:20190812T070000
DTEND:20190812T080000
LOCATION:nach Vereinbarung
DTSTAMP:20260423T005906
SUMMARY:AV Wanderung
URL;VALUE=URI:https://horn.gv.at
DESCRIPTION:Nationalpark Kalkalpen
UID:20260423T005906-20190812T070000-20190812T080000
END:VEVENT
END:VCALENDAR