BEGIN:VCALENDAR
VERSION:2.0
PRODID:-//MediaDesign//MediaDesign.at//DE
CALSCALE:GREGORIAN
BEGIN:VEVENT
DTSTART:20190811T080000
DTEND:20190811T090000
LOCATION:nach Vereinbarung
DTSTAMP:20260422T214345
SUMMARY:AV Hochtourenwoche
URL;VALUE=URI:https://horn.gv.at
DESCRIPTION:Hochtourenwoche Walliser Alpen
UID:20260422T214345-20190811T080000-20190811T090000
END:VEVENT
END:VCALENDAR