BEGIN:VCALENDAR
VERSION:2.0
PRODID:-//MediaDesign//MediaDesign.at//DE
CALSCALE:GREGORIAN
BEGIN:VEVENT
DTSTART:20190803T060000
DTEND:20190803T070000
LOCATION:Spitalgasse 49\, 3580 Horn
DTSTAMP:20260422T112854
SUMMARY:AV Bergtour
URL;VALUE=URI:https://horn.gv.at
DESCRIPTION:Bergtour Gr Hafner
UID:20260422T112854-20190803T060000-20190803T070000
END:VEVENT
END:VCALENDAR