BEGIN:VCALENDAR
VERSION:2.0
PRODID:-//MediaDesign//MediaDesign.at//DE
CALSCALE:GREGORIAN
BEGIN:VEVENT
DTSTART:20260530T071500
DTEND:20260530T081500
LOCATION:3430 Tulln
DTSTAMP:20260421T231242
SUMMARY:Haus der Digitalisierung
URL;VALUE=URI:https://horn.gv.at
DESCRIPTION:Tagesausflug
UID:20260421T231242-20260530T071500-20260530T081500
END:VEVENT
END:VCALENDAR