BEGIN:VCALENDAR
VERSION:2.0
PRODID:-//MediaDesign//MediaDesign.at//DE
CALSCALE:GREGORIAN
BEGIN:VEVENT
DTSTART:20260528T160000
DTEND:20260528T170000
LOCATION:Walkenstein\, 3752 Walkenstein
DTSTAMP:20260421T193806
SUMMARY:Minigolf
URL;VALUE=URI:https://horn.gv.at
DESCRIPTION:in Walkenstein
UID:20260421T193806-20260528T160000-20260528T170000
END:VEVENT
END:VCALENDAR