BEGIN:VCALENDAR
VERSION:2.0
PRODID:-//MediaDesign//MediaDesign.at//DE
CALSCALE:GREGORIAN
BEGIN:VEVENT
DTSTART:20260522T100000
DTEND:20260522T110000
LOCATION:3263 Randegg
DTSTAMP:20260420T201959
SUMMARY:Landesradwandertag
URL;VALUE=URI:https://horn.gv.at
DESCRIPTION:in Randegg
UID:20260420T201959-20260522T100000-20260522T110000
END:VEVENT
END:VCALENDAR