BEGIN:VCALENDAR
VERSION:2.0
PRODID:-//MediaDesign//MediaDesign.at//DE
CALSCALE:GREGORIAN
BEGIN:VEVENT
DTSTART:20260509T190000
DTEND:20260509T200000
LOCATION:Raabser Straße 28\, 3580 Horn
DTSTAMP:20260419T181630
SUMMARY:Florianimesse
URL;VALUE=URI:https://horn.gv.at
DESCRIPTION:Erffnung und Segnung des Feuerwehr
UID:20260419T181630-20260509T190000-20260509T200000
END:VEVENT
END:VCALENDAR