BEGIN:VCALENDAR
VERSION:2.0
PRODID:-//MediaDesign//MediaDesign.at//DE
CALSCALE:GREGORIAN
BEGIN:VEVENT
DTSTART:20260604T090000
DTEND:20260604T100000
LOCATION:Thurnhofgasse 19\, 3580 Horn
DTSTAMP:20260422T125645
SUMMARY:Fronleichnamsfest
URL;VALUE=URI:https://horn.gv.at
DESCRIPTION:
UID:20260422T125645-20260604T090000-20260604T100000
END:VEVENT
END:VCALENDAR