BEGIN:VCALENDAR
VERSION:2.0
PRODID:-//MediaDesign//MediaDesign.at//DE
CALSCALE:GREGORIAN
BEGIN:VEVENT
DTSTART:20260530T110000
DTEND:20260530T120000
LOCATION:Rathausplatz 1\, 3580 Horn
DTSTAMP:20260422T021734
SUMMARY:Tag der offenen Tr
URL;VALUE=URI:https://horn.gv.at
DESCRIPTION:Musikschule Horn
UID:20260422T021734-20260530T110000-20260530T120000
END:VEVENT
END:VCALENDAR