BEGIN:VCALENDAR
VERSION:2.0
PRODID:-//MediaDesign//MediaDesign.at//DE
CALSCALE:GREGORIAN
BEGIN:VEVENT
DTSTART:20260527T173000
DTEND:20260527T183000
LOCATION:Wiener Straße 4\, 3580 Horn
DTSTAMP:20260421T145552
SUMMARY:Mikroausstellung Rund ums Bier
URL;VALUE=URI:https://horn.gv.at
DESCRIPTION:
UID:20260421T145552-20260527T173000-20260527T183000
END:VEVENT
END:VCALENDAR