BEGIN:VCALENDAR
VERSION:2.0
PRODID:-//MediaDesign//MediaDesign.at//DE
CALSCALE:GREGORIAN
BEGIN:VEVENT
DTSTART:20260523T180000
DTEND:20260523T190000
LOCATION:Prager Straße 43\, 3580 Horn
DTSTAMP:20260421T034504
SUMMARY:Musik zum Samstagabend
URL;VALUE=URI:https://horn.gv.at
DESCRIPTION:
UID:20260421T034504-20260523T180000-20260523T190000
END:VEVENT
END:VCALENDAR