BEGIN:VCALENDAR
VERSION:2.0
PRODID:-//MediaDesign//MediaDesign.at//DE
CALSCALE:GREGORIAN
BEGIN:VEVENT
DTSTART:20260515T190000
DTEND:20260515T200000
LOCATION:Wiener Straße 4\, 3580 Horn
DTSTAMP:20260420T092111
SUMMARY:Generalversammlung Museumsverein
URL;VALUE=URI:https://horn.gv.at
DESCRIPTION:
UID:20260420T092111-20260515T190000-20260515T200000
END:VEVENT
END:VCALENDAR