BEGIN:VCALENDAR
VERSION:2.0
PRODID:-//MediaDesign//MediaDesign.at//DE
CALSCALE:GREGORIAN
BEGIN:VEVENT
DTSTART:20260514T150000
DTEND:20260514T160000
LOCATION:Wiener Straße 2\, 3580 Horn
DTSTAMP:20260420T073534
SUMMARY:Erffnung BuchKunstBiennale XVII 
URL;VALUE=URI:https://horn.gv.at
DESCRIPTION:
UID:20260420T073534-20260514T150000-20260514T160000
END:VEVENT
END:VCALENDAR