BEGIN:VCALENDAR
VERSION:2.0
PRODID:-//MediaDesign//MediaDesign.at//DE
CALSCALE:GREGORIAN
BEGIN:VEVENT
DTSTART:20260509T100000
DTEND:20260509T110000
LOCATION:Wiener Straße 4\, 3580 Horn
DTSTAMP:20260419T152220
SUMMARY:Tag der Regionalmuseen
URL;VALUE=URI:https://horn.gv.at
DESCRIPTION:EggenburgGarsHorn
UID:20260419T152220-20260509T100000-20260509T110000
END:VEVENT
END:VCALENDAR