BEGIN:VCALENDAR
VERSION:2.0
PRODID:-//MediaDesign//MediaDesign.at//DE
CALSCALE:GREGORIAN
BEGIN:VEVENT
DTSTART:20260426T090000
DTEND:20260426T100000
LOCATION:Kirchenplatz 1\, 3580 Horn
DTSTAMP:20260426T022521
SUMMARY:Festmesse zur Titelbertragung
URL;VALUE=URI:https://horn.gv.at
DESCRIPTION:
UID:20260426T022521-20260426T090000-20260426T100000
END:VEVENT
END:VCALENDAR