BEGIN:VCALENDAR
VERSION:2.0
PRODID:-//MediaDesign//MediaDesign.at//DE
CALSCALE:GREGORIAN
BEGIN:VEVENT
DTSTART:20260509T090000
DTEND:20260509T100000
LOCATION:Raabser Straße 28\, 3580 Horn
DTSTAMP:20260419T140037
SUMMARY:Offizielle Erffnung und
URL;VALUE=URI:https://horn.gv.at
DESCRIPTION:Florianifeier des Feuerwehrmuseums 
UID:20260419T140037-20260509T090000-20260509T100000
END:VEVENT
END:VCALENDAR