BEGIN:VCALENDAR
VERSION:2.0
PRODID:-//MediaDesign//MediaDesign.at//DE
CALSCALE:GREGORIAN
BEGIN:VEVENT
DTSTART:20260607T150000
DTEND:20260607T160000
LOCATION:Wiener Straße 2\, 3580 Horn
DTSTAMP:20260422T171352
SUMMARY:PopupGalerie  Lesung
URL;VALUE=URI:https://horn.gv.at
DESCRIPTION:Johannes Simetsberger 
UID:20260422T171352-20260607T150000-20260607T160000
END:VEVENT
END:VCALENDAR