BEGIN:VCALENDAR
VERSION:2.0
PRODID:-//MediaDesign//MediaDesign.at//DE
CALSCALE:GREGORIAN
BEGIN:VEVENT
DTSTART:20260531T110000
DTEND:20260531T120000
LOCATION:Wiener Straße 2\, 3580 Horn
DTSTAMP:20260422T070127
SUMMARY:PopupGalerie  Vernissage
URL;VALUE=URI:https://horn.gv.at
DESCRIPTION:Johannes Simetsberger 
UID:20260422T070127-20260531T110000-20260531T120000
END:VEVENT
END:VCALENDAR