BEGIN:VCALENDAR
VERSION:2.0
PRODID:-//MediaDesign//MediaDesign.at//DE
CALSCALE:GREGORIAN
BEGIN:VEVENT
DTSTART:20260530T170000
DTEND:20260530T180000
LOCATION:Wiener Straße 2\, 3580 Horn
DTSTAMP:20260422T035106
SUMMARY:PopupGalerie 
URL;VALUE=URI:https://horn.gv.at
DESCRIPTION:Johannes Simetsberger 
UID:20260422T035106-20260530T170000-20260530T180000
END:VEVENT
END:VCALENDAR