BEGIN:VCALENDAR
VERSION:2.0
PRODID:-//MediaDesign//MediaDesign.at//DE
CALSCALE:GREGORIAN
BEGIN:VEVENT
DTSTART:20260523T170000
DTEND:20260523T180000
LOCATION:Wiener Straße 2\, 3580 Horn
DTSTAMP:20260421T014949
SUMMARY:PopupGalerie  Vernissage
URL;VALUE=URI:https://horn.gv.at
DESCRIPTION:Adem Klr und Martina Besti 
UID:20260421T014949-20260523T170000-20260523T180000
END:VEVENT
END:VCALENDAR