BEGIN:VCALENDAR
VERSION:2.0
PRODID:-//MediaDesign//MediaDesign.at//DE
CALSCALE:GREGORIAN
BEGIN:VEVENT
DTSTART:20260517T150000
DTEND:20260517T160000
LOCATION:Wiener Straße 2\, 3580 Horn
DTSTAMP:20260420T170036
SUMMARY:PopupGalerie  Vernissage
URL;VALUE=URI:https://horn.gv.at
DESCRIPTION:Adem Klr und Martina Besti 
UID:20260420T170036-20260517T150000-20260517T160000
END:VEVENT
END:VCALENDAR